BEGIN:VCALENDAR
VERSION:2.0
PRODID:-//Greater Accra Sports Authority - ECPv6.15.20//NONSGML v1.0//EN
CALSCALE:GREGORIAN
METHOD:PUBLISH
X-ORIGINAL-URL:https://gasportsauthority.org.gh
X-WR-CALDESC:Events for Greater Accra Sports Authority
REFRESH-INTERVAL;VALUE=DURATION:PT1H
X-Robots-Tag:noindex
X-PUBLISHED-TTL:PT1H
BEGIN:VTIMEZONE
TZID:Africa/Accra
BEGIN:STANDARD
TZOFFSETFROM:+0000
TZOFFSETTO:+0000
TZNAME:GMT
DTSTART:20240101T000000
END:STANDARD
END:VTIMEZONE
BEGIN:VEVENT
DTSTART;VALUE=DATE:20250825
DTEND;VALUE=DATE:20250831
DTSTAMP:20260425T233738
CREATED:20250902T160619Z
LAST-MODIFIED:20250902T161119Z
UID:2414-1756080000-1756598399@gasportsauthority.org.gh
SUMMARY:Netball: Ada Youth Netball Tournament
DESCRIPTION:
URL:https://gasportsauthority.org.gh/event/netball-ada-youth-netball-tournament/
CATEGORIES:Tournament
END:VEVENT
END:VCALENDAR